BEGIN:VCALENDAR
VERSION:2.0
PRODID:spatie/icalendar-generator
BEGIN:VTIMEZONE
TZID:UTC
BEGIN:STANDARD
DTSTART:20250713T111526
TZOFFSETFROM:+0000
TZOFFSETTO:+0000
END:STANDARD
END:VTIMEZONE
BEGIN:VEVENT
UID:9e4f0182-0d20-4152-8e1a-7155459fe1b5--0
DTSTAMP:20260409T111526Z
SUMMARY:Tusomeni Kiswahili (micro-credential)
LOCATION:Campus Boekentoren
ORGANIZER;CN=Humanities Academie:MAILTO:humanitiesacademie@ugent.be
DTSTART:20260921T063000Z
DTEND:20270515T140000Z
END:VEVENT
END:VCALENDAR