BEGIN:VCALENDAR
VERSION:2.0
PRODID:spatie/icalendar-generator
BEGIN:VTIMEZONE
TZID:UTC
BEGIN:STANDARD
DTSTART:20250103T080000
TZOFFSETFROM:+0000
TZOFFSETTO:+0000
END:STANDARD
END:VTIMEZONE
BEGIN:VEVENT
UID:d1ba1a6d-fedf-410a-84ba-d180a509d52e--0
DTSTAMP:20260411T111515Z
SUMMARY:Kunst in Context (micro-credential)
LOCATION:Campus Boekentoren
ORGANIZER;CN=Humanities Academie:MAILTO:humanitiesacademie@ugent.be
DTSTART:20250930T080000Z
DTEND:20260929T170000Z
END:VEVENT
END:VCALENDAR