BEGIN:VCALENDAR
VERSION:2.0
PRODID:spatie/icalendar-generator
BEGIN:VTIMEZONE
TZID:UTC
BEGIN:STANDARD
DTSTART:20241226T073000
TZOFFSETFROM:+0000
TZOFFSETTO:+0000
END:STANDARD
END:VTIMEZONE
BEGIN:VEVENT
UID:98444f58-158b-4651-93f4-37917a0b478f--0
DTSTAMP:20260411T002434Z
SUMMARY:Human Osteology
LOCATION:Campus Ledeganck
ORGANIZER;CN=Humanities Academie:MAILTO:humanitiesacademie@ugent.be
DTSTART:20250922T073000Z
DTEND:20250926T143000Z
END:VEVENT
END:VCALENDAR