BEGIN:VCALENDAR
VERSION:2.0
PRODID:spatie/icalendar-generator
BEGIN:VTIMEZONE
TZID:UTC
BEGIN:STANDARD
DTSTART:20250302T173000
TZOFFSETFROM:+0000
TZOFFSETTO:+0000
END:STANDARD
END:VTIMEZONE
BEGIN:VEVENT
UID:49b630e2-146a-4b00-9ab0-7dde1abf247f--0
DTSTAMP:20260409T163042Z
SUMMARY:Drie lezingen \"Jouw talent versterkt\"
LOCATION:Library Labs
ORGANIZER;CN=Humanities Academie:MAILTO:humanitiesacademie@ugent.be
DTSTART:20251127T173000Z
DTEND:20251127T203000Z
END:VEVENT
BEGIN:VEVENT
UID:49b630e2-146a-4b00-9ab0-7dde1abf247f--1
DTSTAMP:20260409T163042Z
SUMMARY:Drie lezingen \"Jouw talent versterkt\"
LOCATION:Library Labs
ORGANIZER;CN=Humanities Academie:MAILTO:humanitiesacademie@ugent.be
DTSTART:20251203T173000Z
DTEND:20251203T200000Z
END:VEVENT
BEGIN:VEVENT
UID:49b630e2-146a-4b00-9ab0-7dde1abf247f--2
DTSTAMP:20260409T163042Z
SUMMARY:Drie lezingen \"Jouw talent versterkt\"
LOCATION:Library Labs
ORGANIZER;CN=Humanities Academie:MAILTO:humanitiesacademie@ugent.be
DTSTART:20251210T173000Z
DTEND:20251210T200000Z
END:VEVENT
END:VCALENDAR