BEGIN:VCALENDAR
VERSION:2.0
PRODID:spatie/icalendar-generator
BEGIN:VTIMEZONE
TZID:UTC
BEGIN:STANDARD
DTSTART:20250620T180000
TZOFFSETFROM:+0000
TZOFFSETTO:+0000
END:STANDARD
END:VTIMEZONE
BEGIN:VEVENT
UID:0410092d-9076-4af5-ae5f-d7a3c6d3dd3f--0
DTSTAMP:20260411T105742Z
SUMMARY:Eugenetica en psychiatrie – Actuele lessen uit een duister verled
 en
LOCATION:Blandijn - auditorium 3 Suzanne Lilar
ORGANIZER;CN=Humanities Academie:MAILTO:humanitiesacademie@ugent.be
DTSTART:20260317T180000Z
DTEND:20260317T200000Z
END:VEVENT
END:VCALENDAR