BEGIN:VCALENDAR
VERSION:2.0
PRODID:spatie/icalendar-generator
BEGIN:VTIMEZONE
TZID:UTC
BEGIN:STANDARD
DTSTART:20250627T190000
TZOFFSETFROM:+0000
TZOFFSETTO:+0000
END:STANDARD
END:VTIMEZONE
BEGIN:VEVENT
UID:2bd6438e-f212-4526-ac4f-f90d8d75f998--0
DTSTAMP:20260409T163329Z
SUMMARY:Introductie en Ouderenzorg
LOCATION:Bibliotheek De Krook - zaal De Blauwe Vogel
ORGANIZER;CN=Humanities Academie:MAILTO:humanitiesacademie@ugent.be
DTSTART:20260324T190000Z
DTEND:20260324T203000Z
END:VEVENT
END:VCALENDAR