BEGIN:VCALENDAR
VERSION:2.0
PRODID:spatie/icalendar-generator
BEGIN:VTIMEZONE
TZID:UTC
BEGIN:STANDARD
DTSTART:20250704T180000
TZOFFSETFROM:+0000
TZOFFSETTO:+0000
END:STANDARD
END:VTIMEZONE
BEGIN:VEVENT
UID:5ea9760b-52aa-46cd-b5f5-62e650b4e667--0
DTSTAMP:20260409T163658Z
SUMMARY:Inclusie\, co-creatie en welzijn
LOCATION:Bibliotheek De Krook - zaal De Blauwe Vogel
ORGANIZER;CN=Humanities Academie:MAILTO:humanitiesacademie@ugent.be
DTSTART:20260331T180000Z
DTEND:20260331T193000Z
END:VEVENT
END:VCALENDAR