BEGIN:VCALENDAR
VERSION:2.0
PRODID:spatie/icalendar-generator
BEGIN:VTIMEZONE
TZID:UTC
BEGIN:STANDARD
DTSTART:20250713T164639
TZOFFSETFROM:+0000
TZOFFSETTO:+0000
END:STANDARD
END:VTIMEZONE
BEGIN:VEVENT
UID:1beb4b83-1bca-469b-b572-cc8229ce73d9--0
DTSTAMP:20260409T164639Z
SUMMARY:Medische Sociologie &amp; Graphic Medicine
LOCATION:Bibliotheek De Krook - zaal De Blauwe Vogel
ORGANIZER;CN=Humanities Academie:MAILTO:humanitiesacademie@ugent.be
DTSTART:20260428T180000Z
DTEND:20260428T193000Z
END:VEVENT
END:VCALENDAR