BEGIN:VCALENDAR
VERSION:2.0
PRODID:spatie/icalendar-generator
BEGIN:VTIMEZONE
TZID:UTC
BEGIN:STANDARD
DTSTART:20250713T163158
TZOFFSETFROM:+0000
TZOFFSETTO:+0000
END:STANDARD
END:VTIMEZONE
BEGIN:VEVENT
UID:1a8f5246-290c-4cff-8631-8f56496f1055--0
DTSTAMP:20260409T163158Z
SUMMARY:Geneeskunde &amp; Geschiedenis over de menopauze
LOCATION:Bibliotheek De Krook - zaal De Blauwe Vogel
ORGANIZER;CN=Humanities Academie:MAILTO:humanitiesacademie@ugent.be
DTSTART:20260505T180000Z
DTEND:20260505T193000Z
END:VEVENT
END:VCALENDAR