BEGIN:VCALENDAR
VERSION:2.0
PRODID:spatie/icalendar-generator
BEGIN:VTIMEZONE
TZID:UTC
BEGIN:STANDARD
DTSTART:20250713T083759
TZOFFSETFROM:+0000
TZOFFSETTO:+0000
END:STANDARD
END:VTIMEZONE
BEGIN:VEVENT
UID:8da33d60-d683-4873-8abe-ef04b0765bd9--0
DTSTAMP:20260409T083759Z
SUMMARY:Eindelevenszorg
LOCATION:Bibliotheek De Krook - zaal De Blauwe Vogel
ORGANIZER;CN=Humanities Academie:MAILTO:humanitiesacademie@ugent.be
DTSTART:20260512T180000Z
DTEND:20260512T193000Z
END:VEVENT
END:VCALENDAR