BEGIN:VCALENDAR
VERSION:2.0
PRODID:spatie/icalendar-generator
BEGIN:VTIMEZONE
TZID:UTC
BEGIN:STANDARD
DTSTART:20250713T083814
TZOFFSETFROM:+0000
TZOFFSETTO:+0000
END:STANDARD
END:VTIMEZONE
BEGIN:VEVENT
UID:50f58ddd-7abb-49f0-b458-406a2bb8e719--0
DTSTAMP:20260409T083814Z
SUMMARY:Panelgesprek (met oa. prof. Petra De Sutter &amp; Benedicte De Kokere
LOCATION:Bibliotheek De Krook - zaal De Blauwe Vogel
ORGANIZER;CN=Humanities Academie:MAILTO:humanitiesacademie@ugent.be
DTSTART:20260602T180000Z
DTEND:20260602T193000Z
END:VEVENT
END:VCALENDAR