BEGIN:VCALENDAR
VERSION:2.0
PRODID:spatie/icalendar-generator
BEGIN:VTIMEZONE
TZID:UTC
BEGIN:STANDARD
DTSTART:20250713T112846
TZOFFSETFROM:+0000
TZOFFSETTO:+0000
END:STANDARD
END:VTIMEZONE
BEGIN:VEVENT
UID:eb5309c5-47d2-42d6-82df-edb9a6aaafd0--0
DTSTAMP:20260409T112846Z
SUMMARY:workshop Poëzie lezen in de filosofieklas 
LOCATION:Faculteitsbibliotheek Letteren en Wijsbegeerte
ORGANIZER;CN=Humanities Academie:MAILTO:humanitiesacademie@ugent.be
DTSTART:20260513T113000Z
DTEND:20260513T123000Z
END:VEVENT
BEGIN:VEVENT
UID:eb5309c5-47d2-42d6-82df-edb9a6aaafd0--1
DTSTAMP:20260409T112846Z
SUMMARY:workshop Poëzie lezen in de filosofieklas 
LOCATION:Faculteitsbibliotheek Letteren en Wijsbegeerte
ORGANIZER;CN=Humanities Academie:MAILTO:humanitiesacademie@ugent.be
DTSTART:20260513T124540Z
DTEND:20260513T134500Z
END:VEVENT
END:VCALENDAR