BEGIN:VCALENDAR
VERSION:2.0
PRODID:spatie/icalendar-generator
BEGIN:VTIMEZONE
TZID:UTC
BEGIN:STANDARD
DTSTART:20250713T100245
TZOFFSETFROM:+0000
TZOFFSETTO:+0000
END:STANDARD
END:VTIMEZONE
BEGIN:VEVENT
UID:672e6c4c-d46f-47dc-b279-5bfaeaa5fa15--0
DTSTAMP:20260409T100245Z
SUMMARY:Workshop 1: Poëzie lezen in de filosofieklas 
LOCATION:Faculteitsbibliotheek Letteren en Wijsbegeerte
ORGANIZER;CN=Humanities Academie:MAILTO:humanitiesacademie@ugent.be
DTSTART:20260513T124500Z
DTEND:20260513T134500Z
END:VEVENT
END:VCALENDAR