BEGIN:VCALENDAR
VERSION:2.0
PRODID:spatie/icalendar-generator
BEGIN:VTIMEZONE
TZID:UTC
BEGIN:STANDARD
DTSTART:20250713T102025
TZOFFSETFROM:+0000
TZOFFSETTO:+0000
END:STANDARD
END:VTIMEZONE
BEGIN:VEVENT
UID:cd1a799a-2d83-44b7-bb7e-d25efd6cfb8b--0
DTSTAMP:20260409T102025Z
SUMMARY:workshop Filosoferen duurzaam verankeren in de klas 
LOCATION:Faculteitsbibliotheek Letteren en Wijsbegeerte
ORGANIZER;CN=Humanities Academie:MAILTO:humanitiesacademie@ugent.be
DTSTART:20260513T113000Z
DTEND:20260513T123000Z
END:VEVENT
BEGIN:VEVENT
UID:cd1a799a-2d83-44b7-bb7e-d25efd6cfb8b--1
DTSTAMP:20260409T102025Z
SUMMARY:workshop Filosoferen duurzaam verankeren in de klas 
LOCATION:Faculteitsbibliotheek Letteren en Wijsbegeerte
ORGANIZER;CN=Humanities Academie:MAILTO:humanitiesacademie@ugent.be
DTSTART:20260513T124500Z
DTEND:20260513T134500Z
END:VEVENT
END:VCALENDAR