BEGIN:VCALENDAR
VERSION:2.0
PRODID:spatie/icalendar-generator
BEGIN:VTIMEZONE
TZID:UTC
BEGIN:STANDARD
DTSTART:20250714T084936
TZOFFSETFROM:+0000
TZOFFSETTO:+0000
END:STANDARD
END:VTIMEZONE
BEGIN:VEVENT
UID:1ce5fc48-13b4-42d2-aeaf-30d00119a5b6--0
DTSTAMP:20260410T084936Z
SUMMARY:workshop Stimuleer het filosofisch denken via debat
LOCATION:Faculteitsbibliotheek Letteren en Wijsbegeerte
ORGANIZER;CN=Humanities Academie:MAILTO:humanitiesacademie@ugent.be
DTSTART:20260513T113000Z
DTEND:20260513T123000Z
END:VEVENT
BEGIN:VEVENT
UID:1ce5fc48-13b4-42d2-aeaf-30d00119a5b6--1
DTSTAMP:20260410T084936Z
SUMMARY:workshop Stimuleer het filosofisch denken via debat
LOCATION:Faculteitsbibliotheek Letteren en Wijsbegeerte
ORGANIZER;CN=Humanities Academie:MAILTO:humanitiesacademie@ugent.be
DTSTART:20260513T124500Z
DTEND:20260513T134500Z
END:VEVENT
END:VCALENDAR