BEGIN:VCALENDAR
VERSION:2.0
PRODID:spatie/icalendar-generator
BEGIN:VTIMEZONE
TZID:UTC
BEGIN:STANDARD
DTSTART:20250713T101205
TZOFFSETFROM:+0000
TZOFFSETTO:+0000
END:STANDARD
END:VTIMEZONE
BEGIN:VEVENT
UID:c42806d0-1edc-4c5c-99d0-aac13db0b11f--0
DTSTAMP:20260409T101205Z
SUMMARY:Workshop 3: Stimuleer het filosofisch denken via debat
LOCATION:Faculteitsbibliotheek Letteren en Wijsbegeerte
ORGANIZER;CN=Humanities Academie:MAILTO:humanitiesacademie@ugent.be
DTSTART:20260513T124500Z
DTEND:20260513T134500Z
END:VEVENT
END:VCALENDAR