BEGIN:VCALENDAR
VERSION:2.0
PRODID:spatie/icalendar-generator
BEGIN:VTIMEZONE
TZID:UTC
BEGIN:STANDARD
DTSTART:20250714T154309
TZOFFSETFROM:+0000
TZOFFSETTO:+0000
END:STANDARD
END:VTIMEZONE
BEGIN:VEVENT
UID:a30281ca-1eef-425f-9157-56b107c6e357--0
DTSTAMP:20260410T154309Z
SUMMARY:workshop Hoe kan je met naïef relativisme van leerlingen omgaan? 
LOCATION:Faculteitsbibliotheek Letteren en Wijsbegeerte
ORGANIZER;CN=Humanities Academie:MAILTO:humanitiesacademie@ugent.be
DTSTART:20260513T113000Z
DTEND:20260513T123000Z
END:VEVENT
BEGIN:VEVENT
UID:a30281ca-1eef-425f-9157-56b107c6e357--1
DTSTAMP:20260410T154309Z
SUMMARY:workshop Hoe kan je met naïef relativisme van leerlingen omgaan? 
LOCATION:Faculteitsbibliotheek Letteren en Wijsbegeerte
ORGANIZER;CN=Humanities Academie:MAILTO:humanitiesacademie@ugent.be
DTSTART:20260513T124500Z
DTEND:20260513T134500Z
END:VEVENT
END:VCALENDAR